BEGIN:VCALENDAR
VERSION:2.0
PRODID:-//Conquer Padel Club - ECPv6.15.20//NONSGML v1.0//EN
CALSCALE:GREGORIAN
METHOD:PUBLISH
X-WR-CALNAME:Conquer Padel Club
X-ORIGINAL-URL:https://conquerpadel.com
X-WR-CALDESC:Events for Conquer Padel Club
REFRESH-INTERVAL;VALUE=DURATION:PT1H
X-Robots-Tag:noindex
X-PUBLISHED-TTL:PT1H
BEGIN:VTIMEZONE
TZID:America/Phoenix
BEGIN:STANDARD
TZOFFSETFROM:-0700
TZOFFSETTO:-0700
TZNAME:MST
DTSTART:20250101T000000
END:STANDARD
END:VTIMEZONE
BEGIN:VEVENT
DTSTART;TZID=America/Phoenix:20260601T090000
DTEND;TZID=America/Phoenix:20260604T120000
DTSTAMP:20260425T105744
CREATED:20260414T213405Z
LAST-MODIFIED:20260420T144826Z
UID:10000001-1780304400-1780574400@conquerpadel.com
SUMMARY:→ 06/01 - 06/04 | 9:00 AM - 12:00 PM
DESCRIPTION:
URL:https://conquerpadel.com/event/01-06-04-06-900-am-1200-pm/
LOCATION:Conquer Padel\, 7760 S Priest Dr\, Tempe\, AZ\, 85284\, United States
CATEGORIES:Tempe
END:VEVENT
BEGIN:VEVENT
DTSTART;TZID=America/Phoenix:20260601T090000
DTEND;TZID=America/Phoenix:20260604T120000
DTSTAMP:20260425T105744
CREATED:20260420T185144Z
LAST-MODIFIED:20260420T185144Z
UID:10000026-1780304400-1780574400@conquerpadel.com
SUMMARY:→ 06/01 - 06/04 | 9:00 AM - 12:00 PM
DESCRIPTION:
URL:https://conquerpadel.com/event/%e2%86%92-06-01-06-04-900-am-1200-pm/
LOCATION:Conquer Padel Lehi\, 4060 W 2100 N suite 100.\, Saratoga Springs\, UT\, 84043\, United States
CATEGORIES:Lehi
END:VEVENT
BEGIN:VEVENT
DTSTART;TZID=America/Phoenix:20260601T130000
DTEND;TZID=America/Phoenix:20260604T160000
DTSTAMP:20260425T105744
CREATED:20260414T223900Z
LAST-MODIFIED:20260420T144826Z
UID:10000002-1780318800-1780588800@conquerpadel.com
SUMMARY:→ 06/01 - 06/04 | 1:00 PM - 4:00 PM
DESCRIPTION:
URL:https://conquerpadel.com/event/%e2%86%92-01-06-04-06-100-pm-400-pm/
LOCATION:Conquer Padel\, 7760 S Priest Dr\, Tempe\, AZ\, 85284\, United States
CATEGORIES:Tempe
END:VEVENT
BEGIN:VEVENT
DTSTART;TZID=America/Phoenix:20260601T130000
DTEND;TZID=America/Phoenix:20260604T160000
DTSTAMP:20260425T105744
CREATED:20260420T185253Z
LAST-MODIFIED:20260420T185253Z
UID:10000027-1780318800-1780588800@conquerpadel.com
SUMMARY:→ 06/01 - 06/04 | 1:00 PM - 4:00 PM
DESCRIPTION:
URL:https://conquerpadel.com/event/%e2%86%92-06-01-06-04-100-pm-400-pm/
LOCATION:Conquer Padel Lehi\, 4060 W 2100 N suite 100.\, Saratoga Springs\, UT\, 84043\, United States
CATEGORIES:Lehi
END:VEVENT
BEGIN:VEVENT
DTSTART;TZID=America/Phoenix:20260608T090000
DTEND;TZID=America/Phoenix:20260611T120000
DTSTAMP:20260425T105744
CREATED:20260414T224220Z
LAST-MODIFIED:20260420T144826Z
UID:10000003-1780909200-1781179200@conquerpadel.com
SUMMARY:→ 06/08 - 06/11 | 9:00 AM - 12:00 PM
DESCRIPTION:
URL:https://conquerpadel.com/event/%e2%86%92-08-06-11-06-900-am-1200-pm/
LOCATION:Conquer Padel\, 7760 S Priest Dr\, Tempe\, AZ\, 85284\, United States
CATEGORIES:Tempe
END:VEVENT
BEGIN:VEVENT
DTSTART;TZID=America/Phoenix:20260608T090000
DTEND;TZID=America/Phoenix:20260611T120000
DTSTAMP:20260425T105744
CREATED:20260420T185407Z
LAST-MODIFIED:20260420T185407Z
UID:10000028-1780909200-1781179200@conquerpadel.com
SUMMARY:→ 06/08 - 06/11 | 9:00 AM - 12:00 PM
DESCRIPTION:
URL:https://conquerpadel.com/event/%e2%86%92-06-08-06-11-900-am-1200-pm/
LOCATION:Conquer Padel Lehi\, 4060 W 2100 N suite 100.\, Saratoga Springs\, UT\, 84043\, United States
CATEGORIES:Lehi
END:VEVENT
BEGIN:VEVENT
DTSTART;TZID=America/Phoenix:20260608T130000
DTEND;TZID=America/Phoenix:20260611T160000
DTSTAMP:20260425T105744
CREATED:20260414T224420Z
LAST-MODIFIED:20260420T144826Z
UID:10000004-1780923600-1781193600@conquerpadel.com
SUMMARY:→ 06/08 - 06/11 | 1:00 PM - 4:00 PM
DESCRIPTION:
URL:https://conquerpadel.com/event/%e2%86%92-08-06-11-06-100-pm-400-pm/
LOCATION:Conquer Padel\, 7760 S Priest Dr\, Tempe\, AZ\, 85284\, United States
CATEGORIES:Tempe
END:VEVENT
BEGIN:VEVENT
DTSTART;TZID=America/Phoenix:20260608T130000
DTEND;TZID=America/Phoenix:20260611T160000
DTSTAMP:20260425T105744
CREATED:20260420T185443Z
LAST-MODIFIED:20260420T191055Z
UID:10000029-1780923600-1781193600@conquerpadel.com
SUMMARY:→ 06/08 - 06/11 | 1:00 PM - 4:00 PM
DESCRIPTION:
URL:https://conquerpadel.com/event/%e2%86%92-06-08-06-11-100-pm-400-pm/
LOCATION:Conquer Padel Lehi\, 4060 W 2100 N suite 100.\, Saratoga Springs\, UT\, 84043\, United States
CATEGORIES:Lehi
END:VEVENT
BEGIN:VEVENT
DTSTART;TZID=America/Phoenix:20260615T090000
DTEND;TZID=America/Phoenix:20260618T000000
DTSTAMP:20260425T105744
CREATED:20260414T224750Z
LAST-MODIFIED:20260420T144825Z
UID:10000005-1781514000-1781740800@conquerpadel.com
SUMMARY:→ 06/15 - 06/18 | 9:00 AM - 12:00 PM
DESCRIPTION:
URL:https://conquerpadel.com/event/%e2%86%92-15-06-18-06-900-am-1200-pm/
LOCATION:Conquer Padel\, 7760 S Priest Dr\, Tempe\, AZ\, 85284\, United States
CATEGORIES:Tempe
END:VEVENT
BEGIN:VEVENT
DTSTART;TZID=America/Phoenix:20260615T090000
DTEND;TZID=America/Phoenix:20260618T000000
DTSTAMP:20260425T105744
CREATED:20260420T185530Z
LAST-MODIFIED:20260420T185530Z
UID:10000030-1781514000-1781740800@conquerpadel.com
SUMMARY:→ 06/15 - 06/18 | 9:00 AM - 12:00 PM
DESCRIPTION:
URL:https://conquerpadel.com/event/%e2%86%92-06-15-06-18-900-am-1200-pm/
LOCATION:Conquer Padel Lehi\, 4060 W 2100 N suite 100.\, Saratoga Springs\, UT\, 84043\, United States
CATEGORIES:Lehi
END:VEVENT
BEGIN:VEVENT
DTSTART;TZID=America/Phoenix:20260615T130000
DTEND;TZID=America/Phoenix:20260618T160000
DTSTAMP:20260425T105744
CREATED:20260414T225639Z
LAST-MODIFIED:20260420T144825Z
UID:10000007-1781528400-1781798400@conquerpadel.com
SUMMARY:→ 06/15 - 06/18 | 1:00 PM - 4:00 PM
DESCRIPTION:
URL:https://conquerpadel.com/event/%e2%86%92-15-06-18-06-100-pm-400-pm/
LOCATION:Conquer Padel\, 7760 S Priest Dr\, Tempe\, AZ\, 85284\, United States
CATEGORIES:Tempe
END:VEVENT
BEGIN:VEVENT
DTSTART;TZID=America/Phoenix:20260615T130000
DTEND;TZID=America/Phoenix:20260618T160000
DTSTAMP:20260425T105744
CREATED:20260420T185718Z
LAST-MODIFIED:20260420T191509Z
UID:10000031-1781528400-1781798400@conquerpadel.com
SUMMARY:→ 06/15 - 06/18 | 1:00 PM - 4:00 PM
DESCRIPTION:
URL:https://conquerpadel.com/event/%e2%86%92-06-15-06-18-100-pm-400-pm/
LOCATION:Conquer Padel Lehi\, 4060 W 2100 N suite 100.\, Saratoga Springs\, UT\, 84043\, United States
CATEGORIES:Lehi
END:VEVENT
BEGIN:VEVENT
DTSTART;TZID=America/Phoenix:20260622T090000
DTEND;TZID=America/Phoenix:20260625T000000
DTSTAMP:20260425T105744
CREATED:20260414T230204Z
LAST-MODIFIED:20260420T144825Z
UID:10000008-1782118800-1782345600@conquerpadel.com
SUMMARY:→ 06/22 - 06/25 | 9:00 AM - 12:00 PM
DESCRIPTION:
URL:https://conquerpadel.com/event/%e2%86%92-22-06-25-06-900-am-1200-pm/
LOCATION:Conquer Padel\, 7760 S Priest Dr\, Tempe\, AZ\, 85284\, United States
CATEGORIES:Tempe
END:VEVENT
BEGIN:VEVENT
DTSTART;TZID=America/Phoenix:20260622T090000
DTEND;TZID=America/Phoenix:20260625T000000
DTSTAMP:20260425T105744
CREATED:20260420T185746Z
LAST-MODIFIED:20260420T191513Z
UID:10000032-1782118800-1782345600@conquerpadel.com
SUMMARY:→ 06/22 - 06/25 | 9:00 AM - 12:00 PM
DESCRIPTION:
URL:https://conquerpadel.com/event/%e2%86%92-06-22-06-25-900-am-1200-pm/
LOCATION:Conquer Padel Lehi\, 4060 W 2100 N suite 100.\, Saratoga Springs\, UT\, 84043\, United States
CATEGORIES:Lehi
END:VEVENT
BEGIN:VEVENT
DTSTART;TZID=America/Phoenix:20260622T130000
DTEND;TZID=America/Phoenix:20260625T160000
DTSTAMP:20260425T105744
CREATED:20260414T230426Z
LAST-MODIFIED:20260420T144825Z
UID:10000010-1782133200-1782403200@conquerpadel.com
SUMMARY:→ 06/22 - 06/25 | 1:00 PM - 4:00 PM
DESCRIPTION:
URL:https://conquerpadel.com/event/%e2%86%92-22-06-25-06-100-pm-400-pm/
LOCATION:Conquer Padel\, 7760 S Priest Dr\, Tempe\, AZ\, 85284\, United States
CATEGORIES:Tempe
END:VEVENT
BEGIN:VEVENT
DTSTART;TZID=America/Phoenix:20260622T130000
DTEND;TZID=America/Phoenix:20260625T160000
DTSTAMP:20260425T105744
CREATED:20260420T185842Z
LAST-MODIFIED:20260420T185842Z
UID:10000033-1782133200-1782403200@conquerpadel.com
SUMMARY:→ 06/22 - 06/25 | 1:00 PM - 4:00 PM
DESCRIPTION:
URL:https://conquerpadel.com/event/%e2%86%92-06-22-06-25-100-pm-400-pm/
LOCATION:Conquer Padel Lehi\, 4060 W 2100 N suite 100.\, Saratoga Springs\, UT\, 84043\, United States
CATEGORIES:Lehi
END:VEVENT
BEGIN:VEVENT
DTSTART;TZID=America/Phoenix:20260629T090000
DTEND;TZID=America/Phoenix:20260702T000000
DTSTAMP:20260425T105744
CREATED:20260414T230636Z
LAST-MODIFIED:20260420T144825Z
UID:10000011-1782723600-1782950400@conquerpadel.com
SUMMARY:→ 06/29 - 07/02 | 9:00 AM - 12:00 PM
DESCRIPTION:
URL:https://conquerpadel.com/event/%e2%86%92-29-06-02-07-900-am-1200-pm/
LOCATION:Conquer Padel\, 7760 S Priest Dr\, Tempe\, AZ\, 85284\, United States
CATEGORIES:Tempe
END:VEVENT
BEGIN:VEVENT
DTSTART;TZID=America/Phoenix:20260629T090000
DTEND;TZID=America/Phoenix:20260702T000000
DTSTAMP:20260425T105744
CREATED:20260420T185922Z
LAST-MODIFIED:20260420T185922Z
UID:10000034-1782723600-1782950400@conquerpadel.com
SUMMARY:→ 06/29 - 07/02 | 9:00 AM - 12:00 PM
DESCRIPTION:
URL:https://conquerpadel.com/event/%e2%86%92-06-29-07-02-900-am-1200-pm/
LOCATION:Conquer Padel Lehi\, 4060 W 2100 N suite 100.\, Saratoga Springs\, UT\, 84043\, United States
CATEGORIES:Lehi
END:VEVENT
BEGIN:VEVENT
DTSTART;TZID=America/Phoenix:20260629T130000
DTEND;TZID=America/Phoenix:20260702T160000
DTSTAMP:20260425T105744
CREATED:20260414T230748Z
LAST-MODIFIED:20260420T144825Z
UID:10000012-1782738000-1783008000@conquerpadel.com
SUMMARY:→ 06/29 - 07/02 | 1:00 PM - 4:00 PM
DESCRIPTION:
URL:https://conquerpadel.com/event/%e2%86%92-29-06-02-07-100-pm-400-pm/
LOCATION:Conquer Padel\, 7760 S Priest Dr\, Tempe\, AZ\, 85284\, United States
CATEGORIES:Tempe
END:VEVENT
BEGIN:VEVENT
DTSTART;TZID=America/Phoenix:20260629T130000
DTEND;TZID=America/Phoenix:20260702T160000
DTSTAMP:20260425T105744
CREATED:20260420T185951Z
LAST-MODIFIED:20260420T185951Z
UID:10000035-1782738000-1783008000@conquerpadel.com
SUMMARY:→ 06/29 - 07/02 | 1:00 PM - 4:00 PM
DESCRIPTION:
URL:https://conquerpadel.com/event/%e2%86%92-06-29-07-02-100-pm-400-pm/
LOCATION:Conquer Padel Lehi\, 4060 W 2100 N suite 100.\, Saratoga Springs\, UT\, 84043\, United States
CATEGORIES:Lehi
END:VEVENT
BEGIN:VEVENT
DTSTART;TZID=America/Phoenix:20260706T090000
DTEND;TZID=America/Phoenix:20260709T000000
DTSTAMP:20260425T105744
CREATED:20260414T230914Z
LAST-MODIFIED:20260420T144825Z
UID:10000013-1783328400-1783555200@conquerpadel.com
SUMMARY:→ 07/06 - 07/09 | 9:00 AM - 12:00 PM
DESCRIPTION:
URL:https://conquerpadel.com/event/%e2%86%92-06-07-09-07-900-am-1200-pm/
LOCATION:Conquer Padel\, 7760 S Priest Dr\, Tempe\, AZ\, 85284\, United States
CATEGORIES:Tempe
END:VEVENT
BEGIN:VEVENT
DTSTART;TZID=America/Phoenix:20260706T090000
DTEND;TZID=America/Phoenix:20260709T000000
DTSTAMP:20260425T105744
CREATED:20260420T190032Z
LAST-MODIFIED:20260420T190032Z
UID:10000036-1783328400-1783555200@conquerpadel.com
SUMMARY:→ 07/06 - 07/09 | 9:00 AM - 12:00 PM
DESCRIPTION:
URL:https://conquerpadel.com/event/%e2%86%92-07-06-07-09-900-am-1200-pm/
LOCATION:Conquer Padel Lehi\, 4060 W 2100 N suite 100.\, Saratoga Springs\, UT\, 84043\, United States
CATEGORIES:Lehi
END:VEVENT
BEGIN:VEVENT
DTSTART;TZID=America/Phoenix:20260706T130000
DTEND;TZID=America/Phoenix:20260709T160000
DTSTAMP:20260425T105744
CREATED:20260414T231032Z
LAST-MODIFIED:20260420T144825Z
UID:10000014-1783342800-1783612800@conquerpadel.com
SUMMARY:→ 07/06 - 07/09 | 1:00 PM - 4:00 PM
DESCRIPTION:
URL:https://conquerpadel.com/event/%e2%86%92-06-07-09-07-100-pm-400-pm/
LOCATION:Conquer Padel\, 7760 S Priest Dr\, Tempe\, AZ\, 85284\, United States
CATEGORIES:Tempe
END:VEVENT
BEGIN:VEVENT
DTSTART;TZID=America/Phoenix:20260706T130000
DTEND;TZID=America/Phoenix:20260709T160000
DTSTAMP:20260425T105744
CREATED:20260420T190116Z
LAST-MODIFIED:20260420T190116Z
UID:10000037-1783342800-1783612800@conquerpadel.com
SUMMARY:→ 07/06 - 07/09 | 1:00 PM - 4:00 PM
DESCRIPTION:
URL:https://conquerpadel.com/event/%e2%86%92-07-06-07-09-100-pm-400-pm/
LOCATION:Conquer Padel Lehi\, 4060 W 2100 N suite 100.\, Saratoga Springs\, UT\, 84043\, United States
CATEGORIES:Lehi
END:VEVENT
BEGIN:VEVENT
DTSTART;TZID=America/Phoenix:20260713T090000
DTEND;TZID=America/Phoenix:20260716T000000
DTSTAMP:20260425T105744
CREATED:20260415T162354Z
LAST-MODIFIED:20260420T144824Z
UID:10000016-1783933200-1784160000@conquerpadel.com
SUMMARY:→ 07/13 - 07/16 | 9:00 AM - 12:00 PM
DESCRIPTION:
URL:https://conquerpadel.com/event/%e2%86%92-13-07-16-07-900-am-1200-pm/
LOCATION:Conquer Padel\, 7760 S Priest Dr\, Tempe\, AZ\, 85284\, United States
CATEGORIES:Tempe
END:VEVENT
BEGIN:VEVENT
DTSTART;TZID=America/Phoenix:20260713T090000
DTEND;TZID=America/Phoenix:20260716T000000
DTSTAMP:20260425T105744
CREATED:20260420T190153Z
LAST-MODIFIED:20260420T190153Z
UID:10000038-1783933200-1784160000@conquerpadel.com
SUMMARY:→ 07/13 - 07/16 | 9:00 AM - 12:00 PM
DESCRIPTION:
URL:https://conquerpadel.com/event/%e2%86%92-07-13-07-16-900-am-1200-pm/
LOCATION:Conquer Padel Lehi\, 4060 W 2100 N suite 100.\, Saratoga Springs\, UT\, 84043\, United States
CATEGORIES:Lehi
END:VEVENT
BEGIN:VEVENT
DTSTART;TZID=America/Phoenix:20260713T130000
DTEND;TZID=America/Phoenix:20260716T160000
DTSTAMP:20260425T105744
CREATED:20260415T162604Z
LAST-MODIFIED:20260420T144824Z
UID:10000017-1783947600-1784217600@conquerpadel.com
SUMMARY:→ 07/13 - 07/16 | 1:00 PM - 4:00 PM
DESCRIPTION:
URL:https://conquerpadel.com/event/%e2%86%92-13-07-16-07-100-pm-400-pm/
LOCATION:Conquer Padel\, 7760 S Priest Dr\, Tempe\, AZ\, 85284\, United States
CATEGORIES:Tempe
END:VEVENT
BEGIN:VEVENT
DTSTART;TZID=America/Phoenix:20260713T130000
DTEND;TZID=America/Phoenix:20260716T160000
DTSTAMP:20260425T105744
CREATED:20260420T190211Z
LAST-MODIFIED:20260420T190211Z
UID:10000039-1783947600-1784217600@conquerpadel.com
SUMMARY:→ 07/13 - 07/16 | 1:00 PM - 4:00 PM
DESCRIPTION:
URL:https://conquerpadel.com/event/%e2%86%92-07-13-07-16-100-pm-400-pm/
LOCATION:Conquer Padel Lehi\, 4060 W 2100 N suite 100.\, Saratoga Springs\, UT\, 84043\, United States
CATEGORIES:Lehi
END:VEVENT
BEGIN:VEVENT
DTSTART;TZID=America/Phoenix:20260720T090000
DTEND;TZID=America/Phoenix:20260723T000000
DTSTAMP:20260425T105744
CREATED:20260415T163147Z
LAST-MODIFIED:20260420T144824Z
UID:10000018-1784538000-1784764800@conquerpadel.com
SUMMARY:→ 07/20 - 07/23 | 9:00 AM - 12:00 PM
DESCRIPTION:
URL:https://conquerpadel.com/event/%e2%86%92-20-07-23-07-900-am-1200-pm/
LOCATION:Conquer Padel\, 7760 S Priest Dr\, Tempe\, AZ\, 85284\, United States
CATEGORIES:Tempe
END:VEVENT
BEGIN:VEVENT
DTSTART;TZID=America/Phoenix:20260720T090000
DTEND;TZID=America/Phoenix:20260723T000000
DTSTAMP:20260425T105744
CREATED:20260415T163316Z
LAST-MODIFIED:20260420T144824Z
UID:10000019-1784538000-1784764800@conquerpadel.com
SUMMARY:→ 07/20 - 07/23 | 1:00 PM - 4:00 PM
DESCRIPTION:
URL:https://conquerpadel.com/event/%e2%86%92-20-07-23-07-100-pm-400-pm/
LOCATION:Conquer Padel\, 7760 S Priest Dr\, Tempe\, AZ\, 85284\, United States
CATEGORIES:Tempe
END:VEVENT
END:VCALENDAR