BEGIN:VCALENDAR
VERSION:2.0
PRODID:-//Conquer Padel Club - ECPv6.15.20//NONSGML v1.0//EN
CALSCALE:GREGORIAN
METHOD:PUBLISH
X-WR-CALNAME:Conquer Padel Club
X-ORIGINAL-URL:https://conquerpadel.com
X-WR-CALDESC:Events for Conquer Padel Club
REFRESH-INTERVAL;VALUE=DURATION:PT1H
X-Robots-Tag:noindex
X-PUBLISHED-TTL:PT1H
BEGIN:VTIMEZONE
TZID:America/Phoenix
BEGIN:STANDARD
TZOFFSETFROM:-0700
TZOFFSETTO:-0700
TZNAME:MST
DTSTART:20250101T000000
END:STANDARD
END:VTIMEZONE
BEGIN:VEVENT
DTSTART;TZID=America/Phoenix:20260803T090000
DTEND;TZID=America/Phoenix:20260806T000000
DTSTAMP:20260425T161451
CREATED:20260415T163807Z
LAST-MODIFIED:20260420T144824Z
UID:10000023-1785747600-1785974400@conquerpadel.com
SUMMARY:→ 08/03 - 08/06 | 9:00 AM - 12:00 PM
DESCRIPTION:
URL:https://conquerpadel.com/event/%e2%86%92-03-08-06-08-900-am-1200-pm/
LOCATION:Conquer Padel\, 7760 S Priest Dr\, Tempe\, AZ\, 85284\, United States
CATEGORIES:Tempe
END:VEVENT
BEGIN:VEVENT
DTSTART;TZID=America/Phoenix:20260803T090000
DTEND;TZID=America/Phoenix:20260806T000000
DTSTAMP:20260425T161451
CREATED:20260415T163900Z
LAST-MODIFIED:20260420T144823Z
UID:10000024-1785747600-1785974400@conquerpadel.com
SUMMARY:→ 08/03 - 08/06 | 1:00 PM - 4:00 PM
DESCRIPTION:
URL:https://conquerpadel.com/event/%e2%86%92-03-08-06-08-100-pm-400-pm/
LOCATION:Conquer Padel\, 7760 S Priest Dr\, Tempe\, AZ\, 85284\, United States
CATEGORIES:Tempe
END:VEVENT
BEGIN:VEVENT
DTSTART;TZID=America/Phoenix:20260803T090000
DTEND;TZID=America/Phoenix:20260806T000000
DTSTAMP:20260425T161451
CREATED:20260420T190917Z
LAST-MODIFIED:20260420T190917Z
UID:10000044-1785747600-1785974400@conquerpadel.com
SUMMARY:→ 08/03 - 08/06 | 9:00 AM - 12:00 PM
DESCRIPTION:
URL:https://conquerpadel.com/event/%e2%86%92-08-03-08-06-900-am-1200-pm/
LOCATION:Conquer Padel Lehi\, 4060 W 2100 N suite 100.\, Saratoga Springs\, UT\, 84043\, United States
CATEGORIES:Lehi
END:VEVENT
BEGIN:VEVENT
DTSTART;TZID=America/Phoenix:20260803T090000
DTEND;TZID=America/Phoenix:20260806T000000
DTSTAMP:20260425T161451
CREATED:20260420T190933Z
LAST-MODIFIED:20260420T194944Z
UID:10000045-1785747600-1785974400@conquerpadel.com
SUMMARY:→ 08/03 - 08/06 | 1:00 PM - 4:00 PM
DESCRIPTION:
URL:https://conquerpadel.com/event/%e2%86%92-08-03-08-06-100-pm-400-pm/
LOCATION:Conquer Padel Lehi\, 4060 W 2100 N suite 100.\, Saratoga Springs\, UT\, 84043\, United States
CATEGORIES:Lehi
END:VEVENT
END:VCALENDAR